BEGIN:VCALENDAR
VERSION:2.0
PRODID:-//Girlguiding Manchester - ECPv5.14.1//NONSGML v1.0//EN
CALSCALE:GREGORIAN
METHOD:PUBLISH
X-WR-CALNAME:Girlguiding Manchester
X-ORIGINAL-URL:https://www.girlguidingmanchester.org.uk
X-WR-CALDESC:Events for Girlguiding Manchester
BEGIN:VTIMEZONE
TZID:Europe/London
BEGIN:DAYLIGHT
TZOFFSETFROM:+0000
TZOFFSETTO:+0100
TZNAME:BST
DTSTART:20200329T010000
END:DAYLIGHT
BEGIN:STANDARD
TZOFFSETFROM:+0100
TZOFFSETTO:+0000
TZNAME:GMT
DTSTART:20201025T010000
END:STANDARD
END:VTIMEZONE
BEGIN:VEVENT
DTSTART;TZID=Europe/London:20200301T093000
DTEND;TZID=Europe/London:20200301T160000
DTSTAMP:20260425T114322
CREATED:20191203T112745Z
LAST-MODIFIED:20191203T112745Z
UID:3011-1583055000-1583078400@www.girlguidingmanchester.org.uk
SUMMARY:First Response Course
DESCRIPTION:1st Response is a basic six-hour first aid course designed specifically for members of Girlguiding and The Scout Association. It is valid for three years and gives you the basic first aid skills you need to provide first aid within guiding. \nTo book\, please click here \n 
URL:https://www.girlguidingmanchester.org.uk/event/first-response-course-2/
LOCATION:The Scout & Guide Hut\, Willow Hill Road\, Crumpsall\, Manchester\, M8 4GE\, United Kingdom
END:VEVENT
END:VCALENDAR