BEGIN:VCALENDAR
VERSION:2.0
PRODID:-//Girlguiding Manchester - ECPv5.14.1//NONSGML v1.0//EN
CALSCALE:GREGORIAN
METHOD:PUBLISH
X-WR-CALNAME:Girlguiding Manchester
X-ORIGINAL-URL:https://www.girlguidingmanchester.org.uk
X-WR-CALDESC:Events for Girlguiding Manchester
BEGIN:VTIMEZONE
TZID:Europe/London
BEGIN:DAYLIGHT
TZOFFSETFROM:+0000
TZOFFSETTO:+0100
TZNAME:BST
DTSTART:20200329T010000
END:DAYLIGHT
BEGIN:STANDARD
TZOFFSETFROM:+0100
TZOFFSETTO:+0000
TZNAME:GMT
DTSTART:20201025T010000
END:STANDARD
END:VTIMEZONE
BEGIN:VEVENT
DTSTART;TZID=Europe/London:20200502T093000
DTEND;TZID=Europe/London:20200502T160000
DTSTAMP:20260425T131532
CREATED:20191203T113701Z
LAST-MODIFIED:20191203T113701Z
UID:3017-1588411800-1588435200@www.girlguidingmanchester.org.uk
SUMMARY:First Response Course
DESCRIPTION:1st Response is a basic six-hour first aid course designed specifically for members of Girlguiding and The Scout Association. It is valid for three years and gives you the basic first aid skills you need to provide first aid within guiding. \nLunch is not included \nTo book please click here \n 
URL:https://www.girlguidingmanchester.org.uk/event/first-response-course-3/
LOCATION:All Saints and Martyrs Church Hall\, Wood Street\, Middleton\, M24 5GL\, United Kingdom
END:VEVENT
END:VCALENDAR