BEGIN:VCALENDAR
VERSION:2.0
PRODID:-//Girlguiding Manchester - ECPv5.14.1//NONSGML v1.0//EN
CALSCALE:GREGORIAN
METHOD:PUBLISH
X-WR-CALNAME:Girlguiding Manchester
X-ORIGINAL-URL:https://www.girlguidingmanchester.org.uk
X-WR-CALDESC:Events for Girlguiding Manchester
BEGIN:VTIMEZONE
TZID:Europe/London
BEGIN:DAYLIGHT
TZOFFSETFROM:+0000
TZOFFSETTO:+0100
TZNAME:BST
DTSTART:20200329T010000
END:DAYLIGHT
BEGIN:STANDARD
TZOFFSETFROM:+0100
TZOFFSETTO:+0000
TZNAME:GMT
DTSTART:20201025T010000
END:STANDARD
END:VTIMEZONE
BEGIN:VEVENT
DTSTART;TZID=Europe/London:20200514T193000
DTEND;TZID=Europe/London:20200514T213000
DTSTAMP:20260425T150614
CREATED:20200220T101435Z
LAST-MODIFIED:20200220T101435Z
UID:3124-1589484600-1589491800@www.girlguidingmanchester.org.uk
SUMMARY:First Response Refresher
DESCRIPTION:This is a Girlguiding First Aid Renewal course for those who have previously completed a full course. \nTo book a place on this course\, please click here \nThe cost is £5 \nPlease note that the entrance is through the gate opposite Dinting Primary School.
URL:https://www.girlguidingmanchester.org.uk/event/first-response-refresher-13/
LOCATION:Girlguiding Pennine HQ\, Dinting Lane\, Glossop\, SK13 6NY\, United Kingdom
END:VEVENT
END:VCALENDAR